BEGIN:VCALENDAR
VERSION:2.0
PRODID:-//York Ritus München - ECPv6.15.20//NONSGML v1.0//EN
CALSCALE:GREGORIAN
METHOD:PUBLISH
X-WR-CALNAME:York Ritus München
X-ORIGINAL-URL:https://york-ritus-muenchen.de
X-WR-CALDESC:Veranstaltungen für York Ritus München
REFRESH-INTERVAL;VALUE=DURATION:PT1H
X-Robots-Tag:noindex
X-PUBLISHED-TTL:PT1H
BEGIN:VTIMEZONE
TZID:Europe/Berlin
BEGIN:DAYLIGHT
TZOFFSETFROM:+0100
TZOFFSETTO:+0200
TZNAME:CEST
DTSTART:20240331T010000
END:DAYLIGHT
BEGIN:STANDARD
TZOFFSETFROM:+0200
TZOFFSETTO:+0100
TZNAME:CET
DTSTART:20241027T010000
END:STANDARD
BEGIN:DAYLIGHT
TZOFFSETFROM:+0100
TZOFFSETTO:+0200
TZNAME:CEST
DTSTART:20250330T010000
END:DAYLIGHT
BEGIN:STANDARD
TZOFFSETFROM:+0200
TZOFFSETTO:+0100
TZNAME:CET
DTSTART:20251026T010000
END:STANDARD
BEGIN:DAYLIGHT
TZOFFSETFROM:+0100
TZOFFSETTO:+0200
TZNAME:CEST
DTSTART:20260329T010000
END:DAYLIGHT
BEGIN:STANDARD
TZOFFSETFROM:+0200
TZOFFSETTO:+0100
TZNAME:CET
DTSTART:20261025T010000
END:STANDARD
BEGIN:DAYLIGHT
TZOFFSETFROM:+0100
TZOFFSETTO:+0200
TZNAME:CEST
DTSTART:20270328T010000
END:DAYLIGHT
BEGIN:STANDARD
TZOFFSETFROM:+0200
TZOFFSETTO:+0100
TZNAME:CET
DTSTART:20271031T010000
END:STANDARD
END:VTIMEZONE
BEGIN:VEVENT
DTSTART;TZID=Europe/Berlin:20260411T110000
DTEND;TZID=Europe/Berlin:20260411T140000
DTSTAMP:20260422T131426
CREATED:20251208T175928Z
LAST-MODIFIED:20251208T175928Z
UID:3327-1775905200-1775916000@york-ritus-muenchen.de
SUMMARY:Kapitel „Isar“ Nr. 21 München – TA VI
DESCRIPTION:Liebe Brüder\, \nwir laden Euch herzlich ein zur Tempelarbeit im Grad VI des York Ritus. \nWir freuen uns auf Eure Teilnahme an dieser feierlichen und bedeutungsvollen Arbeit. \nFalls ihr Fragen habt oder euch anmelden möchtet\, kontaktiert uns bitte unter kontakt@york-ritus-muenchen.de
URL:https://york-ritus-muenchen.de/templearbeit/kapitel-isar-nr-21-muenchen-ta-vi/
ORGANIZER;CN="York Ritus M%C3%BCnchen e.V. Sekret%C3%A4r":MAILTO:dersekretaer@york-ritus-munchen.de
END:VEVENT
BEGIN:VEVENT
DTSTART;VALUE=DATE:20260306
DTEND;VALUE=DATE:20260307
DTSTAMP:20260422T131426
CREATED:20251208T180329Z
LAST-MODIFIED:20251215T202828Z
UID:3333-1772755200-1772841599@york-ritus-muenchen.de
SUMMARY:Komturei Bavaria N° 3 - TA X - XI (Wien)
DESCRIPTION:Liebe Brüder\, \nwir laden Euch herzlich ein zur Tempelarbeit im Grad X & XI des York Ritus in Wien. \nWir freuen uns auf Eure Teilnahme an dieser feierlichen und bedeutungsvollen Arbeit. \nFalls ihr Fragen habt oder euch anmelden möchtet\, kontaktiert uns bitte unter kontakt@york-ritus-muenchen.de
URL:https://york-ritus-muenchen.de/templearbeit/komturei-bavaria-n-3-ta-x-xi-wien/
ORGANIZER;CN="York Ritus M%C3%BCnchen e.V. Sekret%C3%A4r":MAILTO:dersekretaer@york-ritus-munchen.de
END:VEVENT
BEGIN:VEVENT
DTSTART;TZID=Europe/Berlin:20260214T110000
DTEND;TZID=Europe/Berlin:20260214T140000
DTSTAMP:20260422T131426
CREATED:20251208T180118Z
LAST-MODIFIED:20251208T180118Z
UID:3329-1771066800-1771077600@york-ritus-muenchen.de
SUMMARY:Konzil „Monachia“ Nr. 12 München – TA VIII & IX
DESCRIPTION:Liebe Brüder\, \nwir laden Euch herzlich ein zur Tempelarbeit im Grad VIII & IX des York Ritus. \nWir freuen uns auf Eure Teilnahme an dieser feierlichen und bedeutungsvollen Arbeit. \nFalls ihr Fragen habt oder euch anmelden möchtet\, kontaktiert uns bitte unter kontakt@york-ritus-muenchen.de
URL:https://york-ritus-muenchen.de/templearbeit/konzil-monachia-nr-12-muenchen-ta-viii-ix-3/
ORGANIZER;CN="York Ritus M%C3%BCnchen e.V. Sekret%C3%A4r":MAILTO:dersekretaer@york-ritus-munchen.de
END:VEVENT
BEGIN:VEVENT
DTSTART;TZID=Europe/Berlin:20260117T110000
DTEND;TZID=Europe/Berlin:20260117T140000
DTSTAMP:20260422T131426
CREATED:20251208T175821Z
LAST-MODIFIED:20251208T175821Z
UID:3325-1768647600-1768658400@york-ritus-muenchen.de
SUMMARY:Kapitel „Isar“ Nr. 21 München – TA IV & V
DESCRIPTION:Liebe Brüder\, \nwir laden Euch herzlich ein zur Tempelarbeit im Grad IV & V des York Ritus. \nWir freuen uns auf Eure Teilnahme an dieser feierlichen und bedeutungsvollen Arbeit. \nFalls ihr Fragen habt oder euch anmelden möchtet\, kontaktiert uns bitte unter kontakt@york-ritus-muenchen.de
URL:https://york-ritus-muenchen.de/templearbeit/kapitel-isar-nr-21-muenchen-ta-iv-v/
ORGANIZER;CN="York Ritus M%C3%BCnchen e.V. Sekret%C3%A4r":MAILTO:dersekretaer@york-ritus-munchen.de
END:VEVENT
BEGIN:VEVENT
DTSTART;TZID=Europe/Berlin:20251213T110000
DTEND;TZID=Europe/Berlin:20251213T140000
DTSTAMP:20260422T131426
CREATED:20250628T153216Z
LAST-MODIFIED:20250811T155446Z
UID:3316-1765623600-1765634400@york-ritus-muenchen.de
SUMMARY:Konzil „Monachia“ Nr. 12 München – TA VIII & IX
DESCRIPTION:Liebe Brüder\, \nwir laden Euch herzlich ein zur Tempelarbeit im Grad VIII & IX des York Ritus. \nWir freuen uns auf Eure Teilnahme an dieser feierlichen und bedeutungsvollen Arbeit. \nFalls ihr Fragen habt oder euch anmelden möchtet\, kontaktiert uns bitte unter kontakt@york-ritus-muenchen.de
URL:https://york-ritus-muenchen.de/templearbeit/konzil-monachia-nr-12-muenchen-ta-viii-ix-2/
ORGANIZER;CN="York Ritus M%C3%BCnchen e.V. Sekret%C3%A4r":MAILTO:dersekretaer@york-ritus-munchen.de
END:VEVENT
BEGIN:VEVENT
DTSTART;TZID=Europe/Berlin:20251115T110000
DTEND;TZID=Europe/Berlin:20251115T140000
DTSTAMP:20260422T131426
CREATED:20250628T153035Z
LAST-MODIFIED:20250811T155502Z
UID:3314-1763204400-1763215200@york-ritus-muenchen.de
SUMMARY:Kapitel „Isar“ Nr. 21 München – TA VII & Jahreshauptversammlung
DESCRIPTION:Liebe Brüder\, \nwir laden Euch herzlich ein zur Tempelarbeit im Grad VII des York Ritus\, sowie unsere Jahreshauptversammlung. \nWir freuen uns auf Eure Teilnahme an dieser feierlichen und bedeutungsvollen Arbeit. \nFalls ihr Fragen habt oder euch anmelden möchtet\, kontaktiert uns bitte unter kontakt@york-ritus-muenchen.de
URL:https://york-ritus-muenchen.de/templearbeit/kapitel-isar-nr-21-muenchen-ta-vii-jhv/
ORGANIZER;CN="York Ritus M%C3%BCnchen e.V. Sekret%C3%A4r":MAILTO:dersekretaer@york-ritus-munchen.de
END:VEVENT
BEGIN:VEVENT
DTSTART;TZID=Europe/Berlin:20251017T160000
DTEND;TZID=Europe/Berlin:20251017T200000
DTSTAMP:20260422T131426
CREATED:20250415T173500Z
LAST-MODIFIED:20250811T155526Z
UID:3306-1760716800-1760731200@york-ritus-muenchen.de
SUMMARY:Komturei Bavaria N° 3 - TA XII (Wien)
DESCRIPTION:Liebe Brüder\, \nwir laden Euch herzlich ein zur Tempelarbeit im Grad XII des York Ritus in Wien. \nWir freuen uns auf Eure Teilnahme an dieser feierlichen und bedeutungsvollen Arbeit. \nFalls ihr Fragen habt oder euch anmelden möchtet\, kontaktiert uns bitte unter kontakt@york-ritus-muenchen.de
URL:https://york-ritus-muenchen.de/templearbeit/komturei-bavaria-n-3-ta-xii-wien/
ORGANIZER;CN="York Ritus M%C3%BCnchen e.V. Sekret%C3%A4r":MAILTO:dersekretaer@york-ritus-munchen.de
END:VEVENT
BEGIN:VEVENT
DTSTART;TZID=Europe/Berlin:20250920T110000
DTEND;TZID=Europe/Berlin:20250920T140000
DTSTAMP:20260422T131426
CREATED:20250628T152758Z
LAST-MODIFIED:20250811T155547Z
UID:3312-1758366000-1758376800@york-ritus-muenchen.de
SUMMARY:Konzil "Monachia" Nr. 12 München - TA VIII & IX
DESCRIPTION:Liebe Brüder\, \nwir laden Euch herzlich ein zur Tempelarbeit im Grad VIII & IX des York Ritus. \nWir freuen uns auf Eure Teilnahme an dieser feierlichen und bedeutungsvollen Arbeit. \nFalls ihr Fragen habt oder euch anmelden möchtet\, kontaktiert uns bitte unter kontakt@york-ritus-muenchen.de
URL:https://york-ritus-muenchen.de/templearbeit/konzil-monachia-nr-12-muenchen-ta-viii-ix/
ORGANIZER;CN="York Ritus M%C3%BCnchen e.V. Sekret%C3%A4r":MAILTO:dersekretaer@york-ritus-munchen.de
END:VEVENT
BEGIN:VEVENT
DTSTART;TZID=Europe/Berlin:20250607T110000
DTEND;TZID=Europe/Berlin:20250607T110000
DTSTAMP:20260422T131426
CREATED:20241222T171222Z
LAST-MODIFIED:20250525T140456Z
UID:3150-1749294000-1749294000@york-ritus-muenchen.de
SUMMARY:Kapitel „Isar“ Nr. 21 München – VI° Grad
DESCRIPTION:Liebe Brüder\, \nwir laden Euch herzlich ein zur Tempelarbeit des York Ritus. \nWir freuen uns auf Eure Teilnahme an dieser feierlichen und bedeutungsvollen Arbeit. \nFalls ihr Fragen habt oder euch anmelden möchtet\, kontaktiert uns bitte unter kontak@york-ritus-muenchen.de
URL:https://york-ritus-muenchen.de/templearbeit/ta-vi-07-06-2025/
END:VEVENT
BEGIN:VEVENT
DTSTART;TZID=Europe/Berlin:20250517T110000
DTEND;TZID=Europe/Berlin:20250517T110000
DTSTAMP:20260422T131426
CREATED:20241225T182416Z
LAST-MODIFIED:20250415T173204Z
UID:3232-1747479600-1747479600@york-ritus-muenchen.de
SUMMARY:Kapitel „Isar“ Nr. 21 München – TA VI
DESCRIPTION:Liebe Brüder\, \nwir laden Euch herzlich ein zur Tempelarbeit im Grad VI des York Ritus. \nWir freuen uns auf Eure Teilnahme an dieser feierlichen und bedeutungsvollen Arbeit. \nFalls ihr Fragen habt oder euch anmelden möchtet\, kontaktiert uns bitte unter kontak@york-ritus-muenchen.de
URL:https://york-ritus-muenchen.de/templearbeit/kapitel-isar-nr-21-muenchen-ta-vi-17-05-2025/
ORGANIZER;CN="York Ritus M%C3%BCnchen e.V. Sekret%C3%A4r":MAILTO:dersekretaer@york-ritus-munchen.de
END:VEVENT
BEGIN:VEVENT
DTSTART;TZID=Europe/Berlin:20250412T110000
DTEND;TZID=Europe/Berlin:20250412T110000
DTSTAMP:20260422T131426
CREATED:20241225T182709Z
LAST-MODIFIED:20250410T191437Z
UID:3234-1744455600-1744455600@york-ritus-muenchen.de
SUMMARY:Kapitel „Isar“ Nr. 21 München – TA VII
DESCRIPTION:Liebe Brüder\, \nwir laden Euch herzlich ein zur Tempelarbeit im Grad VII des York Ritus. \nWir freuen uns auf Eure Teilnahme an dieser feierlichen und bedeutungsvollen Arbeit. \nFalls ihr Fragen habt oder euch anmelden möchtet\, kontaktiert uns bitte unter kontak@york-ritus-muenchen.de
URL:https://york-ritus-muenchen.de/templearbeit/kapitel-isar-nr-21-muenchen-ta-vii-12-04-2025/
ORGANIZER;CN="York Ritus M%C3%BCnchen e.V. Sekret%C3%A4r":MAILTO:dersekretaer@york-ritus-munchen.de
END:VEVENT
BEGIN:VEVENT
DTSTART;TZID=Europe/Berlin:20250315T110000
DTEND;TZID=Europe/Berlin:20250315T110000
DTSTAMP:20260422T131426
CREATED:20241222T170532Z
LAST-MODIFIED:20241225T183316Z
UID:3144-1742036400-1742036400@york-ritus-muenchen.de
SUMMARY:Kapitel „Isar“ Nr. 21 München TA IV - V
DESCRIPTION:Liebe Brüder\, \nwir laden Euch herzlich ein zur Tempelarbeit im Grad IV des York Ritus. \nWir freuen uns auf Eure Teilnahme an dieser feierlichen und bedeutungsvollen Arbeit. \nFalls ihr Fragen habt oder euch anmelden möchtet\, kontaktiert uns bitte unter kontak@york-ritus-muenchen.de
URL:https://york-ritus-muenchen.de/templearbeit/ta-iv-v-15-03-2025/
ORGANIZER;CN="York Ritus M%C3%BCnchen e.V. Sekret%C3%A4r":MAILTO:dersekretaer@york-ritus-munchen.de
END:VEVENT
BEGIN:VEVENT
DTSTART;TZID=Europe/Berlin:20250208T110000
DTEND;TZID=Europe/Berlin:20250208T110000
DTSTAMP:20260422T131426
CREATED:20241222T170409Z
LAST-MODIFIED:20241225T183239Z
UID:3142-1739012400-1739012400@york-ritus-muenchen.de
SUMMARY:Kapitel „Isar“ Nr. 21 München – TA VI
DESCRIPTION:Liebe Brüder\, \nwir laden Euch herzlich ein zur Tempelarbeit im Grad IV des York Ritus. \nWir freuen uns auf Eure Teilnahme an dieser feierlichen und bedeutungsvollen Arbeit. \nFalls ihr Fragen habt oder euch anmelden möchtet\, kontaktiert uns bitte unter kontak@york-ritus-muenchen.de
URL:https://york-ritus-muenchen.de/templearbeit/kapitel-isar-nr-21-muenchen-ta-vi-08-02-2025/
ORGANIZER;CN="York Ritus M%C3%BCnchen e.V. Sekret%C3%A4r":MAILTO:dersekretaer@york-ritus-munchen.de
END:VEVENT
BEGIN:VEVENT
DTSTART;TZID=Europe/Berlin:20250118T110000
DTEND;TZID=Europe/Berlin:20250118T110000
DTSTAMP:20260422T131426
CREATED:20230218T120316Z
LAST-MODIFIED:20241225T183152Z
UID:345-1737198000-1737198000@york-ritus-muenchen.de
SUMMARY:Kapitel "Isar" Nr. 21 München - TA IV
DESCRIPTION:Liebe Brüder\, \nwir laden Euch herzlich ein zur Tempelarbeit im Grad IV des York Ritus. \nWir freuen uns auf Eure Teilnahme an dieser feierlichen und bedeutungsvollen Arbeit. \nFalls ihr Fragen habt oder euch anmelden möchtet\, kontaktiert uns bitte unter kontak@york-ritus-muenchen.de
URL:https://york-ritus-muenchen.de/templearbeit/ta-iv-18-01-2025/
ORGANIZER;CN="York Ritus M%C3%BCnchen e.V. Sekret%C3%A4r":MAILTO:dersekretaer@york-ritus-munchen.de
END:VEVENT
END:VCALENDAR